BEGIN:VCALENDAR
VERSION:2.0
PRODID:-//KOCHMOMENTE
CALSCALE:GREGORIAN
METHOD:PUBLISH
X-WR-CALNAME:KOCHMOMENTE
X-ORIGINAL-URL:https://devneu.kochmomente.de/shop/schalen-und-krustentiere/
X-WR-CALDESC:SCHALEN UND KRUSTENTIERE
BEGIN:VEVENT
DTSTART;TZID=Europe/Helsinki:20200130T190000
DTEND;TZID=Europe/Helsinki:20200130T230000
SUMMARY:SCHALEN UND KRUSTENTIERE
DESCRIPTION:Erlernt in vier Gängen den Umgang mit Schalen und Krustentieren. Ob Austern à la Rockefeller, Jakobsmuscheln, Flusskrebse oder Kanadischer Hummer. Wir bringen Euch bei wie ihr sorgenfrei mit edlen Produkten umgehen könnt und kochen gemeinsam tolle Gerichte. &nbsp; &nbsp; Beginn 19:00 Uhr, Speisen &amp; Getränke inklusive.
URL:https://devneu.kochmomente.de/shop/schalen-und-krustentiere/
LOCATION:
END:VEVENT
END:VCALENDAR
