BEGIN:VCALENDAR
VERSION:2.0
PRODID:-//KOCHMOMENTE
CALSCALE:GREGORIAN
METHOD:PUBLISH
X-WR-CALNAME:KOCHMOMENTE
X-ORIGINAL-URL:https://devneu.kochmomente.de/shop/perfect-meat-academy-7/
X-WR-CALDESC:Perfect Meat Academy
BEGIN:VEVENT
DTSTART;TZID=Europe/Helsinki:20190222T190000
DTEND;TZID=Europe/Helsinki:20190222T233000
SUMMARY:Perfect Meat Academy
DESCRIPTION:Hier geht's um die perfekte Zubereitung von Fleisch. Das Fleischkompetenz-Zentrum Otto-Gourmet liefert uns dafür Fleisch internationaler edler Rassen für eine Querverkostung von vier exklusiven Fleischsorten. Für das perfekte Steak ist nicht nur das Kochen, sondern auch Herkunft und weitere Aspekte wichtig. Wir zeigen euch worauf bei Einkauf und Vorbereitung geachtet werden muss und erklären alles Wissenswerte zur Zubereitung. Kocht mit uns drei Gänge und genießt exklusives Fleisch aus aller Herren Länder. Beginn 19:00 Uhr; Speisen &amp; Getränke inklusive
URL:https://devneu.kochmomente.de/shop/perfect-meat-academy-7/
LOCATION:
END:VEVENT
END:VCALENDAR
