BEGIN:VCALENDAR
VERSION:2.0
PRODID:-//KOCHMOMENTE
CALSCALE:GREGORIAN
METHOD:PUBLISH
X-WR-CALNAME:KOCHMOMENTE
X-ORIGINAL-URL:https://devneu.kochmomente.de/shop/online-kochkurs-kulinarisches-israel-2/
X-WR-CALDESC:Online Kochkurs Kulinarisches Israel
BEGIN:VEVENT
DTSTART;TZID=Europe/Helsinki:20210411T160000
DTEND;TZID=Europe/Helsinki:20210411T180000
SUMMARY:Online Kochkurs Kulinarisches Israel
DESCRIPTION:In diesem Kochkurs beschäftigen wir uns mit der einzigartigen Fusionsküche Israels. Kulinarische Einflüsse aus Dutzenden von Ländern, die von der jüdischen Diaspora bei der Gründung des Staates Israel mitgebracht wurden, und zahlreiche Elemente der arabischen Küche vereinen sich zu einem geschmacksintensiven Ganzen. Dazu kommen traditionelle Gerichte, deren Ursprünge teilweise bis ins erste Jahrtausend vor Christus zurückverfolgt werden können. Kocht gemeinsam mit uns ein wunderbares 2 Gänge Menü: &nbsp;  Gebratenes Kikok Huhn mit aromatisierten Möhren-Fenchelgemüse, Israelischer Couscous mit gerösteten Mandeln &amp; Granatapfel – Gremolata **  Schoko- Baklava mit Pistazien &amp; Walnüsse in Orangenzucker mariniert &amp; Joghurtcreme   &nbsp; Beginn 16:00 Uhr; Wer mag bestellt sich seine Kochmobox dazu oder organisiert sich seinen Einkauf selber. Was du brauchst und wie der Kurs abläuft findest du unten in der Beschreibung !!! Ein Einwahllink (1.Person) kostet 29,- Euro; pro Einwahllink können bis zu 3 weitere Personen a 5 Euro dazu gebucht werden. Ab 5 Personen ist ein weiterer Einwahllink notwendig. &nbsp; &nbsp; &nbsp;
URL:https://devneu.kochmomente.de/shop/online-kochkurs-kulinarisches-israel-2/
LOCATION:
END:VEVENT
END:VCALENDAR
